BEGIN:VCALENDAR
VERSION:2.0
PRODID:-//AMC-Weiden - ECPv6.15.20//NONSGML v1.0//EN
CALSCALE:GREGORIAN
METHOD:PUBLISH
X-ORIGINAL-URL:https://www.amc-weiden.de
X-WR-CALDESC:Veranstaltungen für AMC-Weiden
REFRESH-INTERVAL;VALUE=DURATION:PT1H
X-Robots-Tag:noindex
X-PUBLISHED-TTL:PT1H
BEGIN:VTIMEZONE
TZID:Europe/Berlin
BEGIN:DAYLIGHT
TZOFFSETFROM:+0100
TZOFFSETTO:+0200
TZNAME:CEST
DTSTART:20220327T010000
END:DAYLIGHT
BEGIN:STANDARD
TZOFFSETFROM:+0200
TZOFFSETTO:+0100
TZNAME:CET
DTSTART:20221030T010000
END:STANDARD
BEGIN:DAYLIGHT
TZOFFSETFROM:+0100
TZOFFSETTO:+0200
TZNAME:CEST
DTSTART:20230326T010000
END:DAYLIGHT
BEGIN:STANDARD
TZOFFSETFROM:+0200
TZOFFSETTO:+0100
TZNAME:CET
DTSTART:20231029T010000
END:STANDARD
BEGIN:DAYLIGHT
TZOFFSETFROM:+0100
TZOFFSETTO:+0200
TZNAME:CEST
DTSTART:20240331T010000
END:DAYLIGHT
BEGIN:STANDARD
TZOFFSETFROM:+0200
TZOFFSETTO:+0100
TZNAME:CET
DTSTART:20241027T010000
END:STANDARD
END:VTIMEZONE
BEGIN:VEVENT
DTSTART;VALUE=DATE:20230517
DTEND;VALUE=DATE:20230522
DTSTAMP:20260422T133631
CREATED:20230516T195708Z
LAST-MODIFIED:20230519T085532Z
UID:3160-1684281600-1684713599@www.amc-weiden.de
SUMMARY:Clubausflug Primiero San Martino di Castrozza | AMC Weiden Touristik
DESCRIPTION:An alle die das Reisen lieben\, \nder AMC-Weiden reist\, zu den unten genannten Zeitraum\, von Weiden nach Primiero San Martino di Castrozza. \nKleine Info am Rande:\nPrimiero San Martino di Castrozza ist eine Streugemeinde im Primiero am Oberlauf des Cismon. Sie ist mit knapp über 200 km² die größte Gemeinde im Trentino und grenzt unmittelbar an die Provinz Belluno in Venetien. Der Gemeindesitz in Fiera di Primiero liegt etwa 56 Kilometer nordnordöstlich von Trient. Die beiden am äußersten Rand des Gemeindegebiets liegenden Fraktionen Passo Rolle im Norden und Transacqua im Süden liegen über 14 Kilometer weit voneinander entfernt. \nBei unserer Reise warten wieder sehr viele beeindruckende Strecken und Sehenswürdigkeiten auf sie. \nSollten Sie Interesse haben dann nehmen Sie einfach Kontakt mit uns auf. \nIhr Team vom AMC-Weiden.
URL:https://www.amc-weiden.de/event/clubausflug-primiero-san-martino-di-castro-amc-weiden-touristik/
CATEGORIES:Touristik
ATTACH;FMTTYPE=image/jpeg:https://www.amc-weiden.de/wp-content/uploads/mantas-hesthaven-_g1WdcKcV3w-unsplash.jpg
ORGANIZER;CN="AMC Weiden":MAILTO:kontakt@amc-weiden.de
END:VEVENT
BEGIN:VEVENT
DTSTART;VALUE=DATE:20230520
DTEND;VALUE=DATE:20230521
DTSTAMP:20260422T133631
CREATED:20230514T112946Z
LAST-MODIFIED:20230514T113234Z
UID:3150-1684540800-1684627199@www.amc-weiden.de
SUMMARY:AMC-Weiden Racing Team | Rennen MSC Röthenbach a.d.Pegnitz e.V.
DESCRIPTION:An alle Motorsportbegeisterte\, \nan den unten aufgeführten Renntermin zeigt unser AMC-Weiden Racing Team wie schnell und zielstrebig sie das Racing beherrschen. \nNicht vergessen:\n„Die Wiege und die Schule des großen Automobilsports ist der Kartsport“. \nRenntermin unserer Motorsportler des AMC-Weiden Racing Team.\nWeitere Informationen zum Rennen: Renninformationen \nWir freuen uns auf euch! \nEuer Team vom AMC-Weiden
URL:https://www.amc-weiden.de/event/amc-weiden-racing-team-rennen-msc-roethenbach-a-d-pegnitz-e-v/
CATEGORIES:Kartsport
ATTACH;FMTTYPE=image/jpeg:https://www.amc-weiden.de/wp-content/uploads/jakob-kac-Jzu-6-ktxCI-unsplash.jpg
END:VEVENT
END:VCALENDAR