BEGIN:VCALENDAR
VERSION:2.0
PRODID:-//AMC-Weiden - ECPv6.15.20//NONSGML v1.0//EN
CALSCALE:GREGORIAN
METHOD:PUBLISH
X-WR-CALNAME:AMC-Weiden
X-ORIGINAL-URL:https://www.amc-weiden.de
X-WR-CALDESC:Veranstaltungen für AMC-Weiden
REFRESH-INTERVAL;VALUE=DURATION:PT1H
X-Robots-Tag:noindex
X-PUBLISHED-TTL:PT1H
BEGIN:VTIMEZONE
TZID:Europe/Berlin
BEGIN:DAYLIGHT
TZOFFSETFROM:+0100
TZOFFSETTO:+0200
TZNAME:CEST
DTSTART:20220327T010000
END:DAYLIGHT
BEGIN:STANDARD
TZOFFSETFROM:+0200
TZOFFSETTO:+0100
TZNAME:CET
DTSTART:20221030T010000
END:STANDARD
BEGIN:DAYLIGHT
TZOFFSETFROM:+0100
TZOFFSETTO:+0200
TZNAME:CEST
DTSTART:20230326T010000
END:DAYLIGHT
BEGIN:STANDARD
TZOFFSETFROM:+0200
TZOFFSETTO:+0100
TZNAME:CET
DTSTART:20231029T010000
END:STANDARD
BEGIN:DAYLIGHT
TZOFFSETFROM:+0100
TZOFFSETTO:+0200
TZNAME:CEST
DTSTART:20240331T010000
END:DAYLIGHT
BEGIN:STANDARD
TZOFFSETFROM:+0200
TZOFFSETTO:+0100
TZNAME:CET
DTSTART:20241027T010000
END:STANDARD
END:VTIMEZONE
BEGIN:VEVENT
DTSTART;VALUE=DATE:20230611
DTEND;VALUE=DATE:20230612
DTSTAMP:20260422T124329
CREATED:20230514T113848Z
LAST-MODIFIED:20230514T113848Z
UID:3157-1686441600-1686527999@www.amc-weiden.de
SUMMARY:AMC-Weiden Racing Team | Rennen MSC Fränk. Schweiz e.V.
DESCRIPTION:An alle Motorsportbegeisterte\, \nan den unten aufgeführten Renntermin zeigt unser AMC-Weiden Racing Team wie schnell und zielstrebig sie das Racing beherrschen. \nNicht vergessen:\n„Die Wiege und die Schule des großen Automobilsports ist der Kartsport“. \nRenntermin unserer Motorsportler des AMC-Weiden Racing Team.\nWeitere Informationen zum Rennen: Renninformationen \nWir freuen uns auf euch! \nEuer Team vom AMC-Weiden
URL:https://www.amc-weiden.de/event/amc-weiden-racing-team-rennen-msc-fraenk-schweiz-e-v/
CATEGORIES:Kartsport
ATTACH;FMTTYPE=image/jpeg:https://www.amc-weiden.de/wp-content/uploads/jakob-kac-Jzu-6-ktxCI-unsplash.jpg
END:VEVENT
END:VCALENDAR