BEGIN:VCALENDAR
VERSION:2.0
PRODID:-//AMC-Weiden - ECPv6.15.20//NONSGML v1.0//EN
CALSCALE:GREGORIAN
METHOD:PUBLISH
X-ORIGINAL-URL:https://www.amc-weiden.de
X-WR-CALDESC:Veranstaltungen für AMC-Weiden
REFRESH-INTERVAL;VALUE=DURATION:PT1H
X-Robots-Tag:noindex
X-PUBLISHED-TTL:PT1H
BEGIN:VTIMEZONE
TZID:Europe/Berlin
BEGIN:DAYLIGHT
TZOFFSETFROM:+0100
TZOFFSETTO:+0200
TZNAME:CEST
DTSTART:20220327T010000
END:DAYLIGHT
BEGIN:STANDARD
TZOFFSETFROM:+0200
TZOFFSETTO:+0100
TZNAME:CET
DTSTART:20221030T010000
END:STANDARD
BEGIN:DAYLIGHT
TZOFFSETFROM:+0100
TZOFFSETTO:+0200
TZNAME:CEST
DTSTART:20230326T010000
END:DAYLIGHT
BEGIN:STANDARD
TZOFFSETFROM:+0200
TZOFFSETTO:+0100
TZNAME:CET
DTSTART:20231029T010000
END:STANDARD
BEGIN:DAYLIGHT
TZOFFSETFROM:+0100
TZOFFSETTO:+0200
TZNAME:CEST
DTSTART:20240331T010000
END:DAYLIGHT
BEGIN:STANDARD
TZOFFSETFROM:+0200
TZOFFSETTO:+0100
TZNAME:CET
DTSTART:20241027T010000
END:STANDARD
END:VTIMEZONE
BEGIN:VEVENT
DTSTART;VALUE=DATE:20231102
DTEND;VALUE=DATE:20231106
DTSTAMP:20260420T123702
CREATED:20230716T130316Z
LAST-MODIFIED:20230716T130316Z
UID:3168-1698883200-1699228799@www.amc-weiden.de
SUMMARY:Mit dem AMC-Weiden Algund genießen | AMC-Weiden Touristik
DESCRIPTION:Clubausflug nach Algund 2. November – 5. November 2023 \nEventinformationen:\n2. November\n08:00 Abfahrt bei der Firma Autoverleih Ach in Weiden\, mit einem Bus\, in Richtung Algund. \nVerschiedenste Tagesausfüge\, rund um Algund\, stehen auf ihrem Programm wie zum Bespiel:\n– Eine Besichtigung einer Brauerei und Brennerei\,\n– Eine Rundfahrt durch die Dolomiten oder ein Ausflug in die schöne Stadt Meran. \nMeran ist eine Stadt und Gemeinde im Burggrafenamt in Südtirol (Italien). Sie ist mit 40.759 Einwohnern (Stand: 31. Dezember 2022) nach Bozen die zweitgrößte Stadt Südtirols\, ihre Bevölkerung setzt sich etwa je zur Hälfte aus deutsch- und italienischsprachigen Bewohnern zusammen. Über Jahrhunderte war Meran die Tiroler Landeshauptstadt. Seit Mitte des 19. Jahrhunderts ist die Stadt vor allem als Kurort bekannt. Bedeutung hat Meran heute als Hauptort der Bezirksgemeinschaft Burggrafenamt\, als lokales Tourismus- und Wirtschaftszentrum sowie Standort mehrerer weiterführender Schulen und eines öffentlichen Krankenhauses. \n5. November Rückfahrt von Algund nach Weiden \nKosten für drei Nächte mit Halbpension inklusive Fahrt nach Algund:\n250\,00\,- pro Person für unsere Mitglieder\n300\,00\,- pro Person für Nichtmitglieder \nBei Interesse können Sie sich gerne an uns wenden. Eine Mitgliedschaft ist hierbei keine Voraussetzung. \nDer AMC-Weiden wünscht ihnen einen schönen Clubsausflug in Algund.
URL:https://www.amc-weiden.de/event/mit-dem-amc-weiden-algund-geniessen-amc-weiden-touristik/
LOCATION:algund\, Algund\, Italien
CATEGORIES:Touristik
ATTACH;FMTTYPE=image/jpeg:https://www.amc-weiden.de/wp-content/uploads/andrea-pasquali-PkK2jTSznM-unsplash.jpg
ORGANIZER;CN="AMC Weiden":MAILTO:kontakt@amc-weiden.de
END:VEVENT
END:VCALENDAR